BEGIN:VCALENDAR
VERSION:2.0
PRODID:-//Benjamin Juul-Dimond - ECPv6.8.2//NONSGML v1.0//EN
CALSCALE:GREGORIAN
METHOD:PUBLISH
X-ORIGINAL-URL:https://benjaminjuuldimond.com
X-WR-CALDESC:Events for Benjamin Juul-Dimond
REFRESH-INTERVAL;VALUE=DURATION:PT1H
X-Robots-Tag:noindex
X-PUBLISHED-TTL:PT1H
BEGIN:VTIMEZONE
TZID:Europe/Copenhagen
BEGIN:DAYLIGHT
TZOFFSETFROM:+0100
TZOFFSETTO:+0200
TZNAME:CEST
DTSTART:20250330T010000
END:DAYLIGHT
BEGIN:STANDARD
TZOFFSETFROM:+0200
TZOFFSETTO:+0100
TZNAME:CET
DTSTART:20251026T010000
END:STANDARD
BEGIN:DAYLIGHT
TZOFFSETFROM:+0100
TZOFFSETTO:+0200
TZNAME:CEST
DTSTART:20260329T010000
END:DAYLIGHT
BEGIN:STANDARD
TZOFFSETFROM:+0200
TZOFFSETTO:+0100
TZNAME:CET
DTSTART:20261025T010000
END:STANDARD
END:VTIMEZONE
BEGIN:VEVENT
DTSTART;TZID=Europe/Copenhagen:20250219T200000
DTEND;TZID=Europe/Copenhagen:20250219T200000
DTSTAMP:20260420T104813
CREATED:20250216T100012Z
LAST-MODIFIED:20260416T185902Z
UID:2617-1739995200-1739995200@benjaminjuuldimond.com
SUMMARY:Jazz Jam at Pica Pica 19-02-25
DESCRIPTION:Really looking forward to playing drums in the house band for the Jazz Jam at Pica Pica on Wednesday 19th February. The band will be a trio that includes Mark Hurrell on saxophone and Adrián Filip on bass. \nMark comes from the UK and has recently been undertaking a Master’s degree associated with the elite music program NOMAZZ (a joint initiative between the Royal Academy of Music in Aarhus\, the Sibelius Academy in Helsinki and the Royal College of Music in Stockholm). Previously\, he studied at some of the UK’s most respected establishments and has played at top jazz clubs in London such as Ronnie Scotts\, 606 jazz club and Pizza Express. \nAdrián comes from Slovakia and is completing a Master’s degree with RAMA (the Royal Academy of Music in Aarhus). Adrián has played across Europe and in various settings including the band Groove Junction who performed at the Aarhus Jazz Festival. \nThe trio will perform an opening set of tunes by Thelonius Monk\, Joe Henderson and Freddie Hubbard. This will be followed by an open jam session. Hope to see you there!
URL:https://benjaminjuuldimond.com/event/jazz-jam-at-pica-pica-19-02-25/
LOCATION:Pica Pica\, Aarhus\, DK\, Vester Allé 15\, Aarhus\, 8000\, Denmark
ATTACH;FMTTYPE=image/webp:https://benjaminjuuldimond.com/wp-content/uploads/Pica-Pica-Jazz-Jam-Benjamin-Juul-Dimond.webp
END:VEVENT
BEGIN:VEVENT
DTSTART;TZID=Europe/Copenhagen:20260311T200000
DTEND;TZID=Europe/Copenhagen:20260311T200000
DTSTAMP:20260420T104813
CREATED:20260309T074040Z
LAST-MODIFIED:20260416T190029Z
UID:2732-1773259200-1773259200@benjaminjuuldimond.com
SUMMARY:Jazz Jam at Pica Pica 11-03-26
DESCRIPTION:I will be playing in the house band celebrating the 100th Jazz Jam at Pica Pica\, Aarhus this coming Wednesday. \nThe line up for the gig that takes place before the jam starts will be as follows: \nJascha Briand Søndergaard   Guitar  (DK)\nLouis Sheridan-Wildi   Alto Saxophone (UK)\nHarry Souter   Bass (UK)\nBenjamin Juul-Dimond   Drums (DK/UK) \nBoth Louis and Harry have been in Scandinavia studying on the music program NOMAZZ (a joint initiative between the Royal Academy of Music in Aarhus\, the Sibelius Academy in Helsinki and the Royal College of Music in Stockholm). \nJascha previously lived in Berlin for 6 years and studied at the Berlin Jazz Institute and currently resides in Aarhus. \nThe quartet will perform an opening set and this will be followed by an open jam session. Hope to see you there! \nClick HERE to see the event on Facebook. \n 
URL:https://benjaminjuuldimond.com/event/jazz-jam-at-pica-pica-11-03-26/
LOCATION:Pica Pica\, Aarhus\, DK\, Vester Allé 15\, Aarhus\, 8000\, Denmark
ATTACH;FMTTYPE=image/webp:https://benjaminjuuldimond.com/wp-content/uploads/Pica-Pica-Jazz-Jam-Benjamin-Juul-Dimond.webp
END:VEVENT
END:VCALENDAR