BEGIN:VCALENDAR
VERSION:2.0
PRODID:-//Benjamin Juul-Dimond - ECPv6.8.2//NONSGML v1.0//EN
CALSCALE:GREGORIAN
METHOD:PUBLISH
X-WR-CALNAME:Benjamin Juul-Dimond
X-ORIGINAL-URL:https://benjaminjuuldimond.com
X-WR-CALDESC:Events for Benjamin Juul-Dimond
REFRESH-INTERVAL;VALUE=DURATION:PT1H
X-Robots-Tag:noindex
X-PUBLISHED-TTL:PT1H
BEGIN:VTIMEZONE
TZID:Europe/Copenhagen
BEGIN:DAYLIGHT
TZOFFSETFROM:+0100
TZOFFSETTO:+0200
TZNAME:CEST
DTSTART:20240331T010000
END:DAYLIGHT
BEGIN:STANDARD
TZOFFSETFROM:+0200
TZOFFSETTO:+0100
TZNAME:CET
DTSTART:20241027T010000
END:STANDARD
END:VTIMEZONE
BEGIN:VEVENT
DTSTART;TZID=Europe/Copenhagen:20240322T150000
DTEND;TZID=Europe/Copenhagen:20240322T150000
DTSTAMP:20260421T011941
CREATED:20240322T061646Z
LAST-MODIFIED:20240610T060530Z
UID:1379-1711119600-1711119600@benjaminjuuldimond.com
SUMMARY:Kobbersmed/Hofman Bøegh/Juul-Dimond 22-03-24
DESCRIPTION:I will be playing at Tøjhuset\, Fredericia\, DK in a jazz trio setting with the pianist Janus Kobbersmed and bassist August Hofman Bøegh. The concert includes originals by both Janus and August as well as music by Brad Mehldau and Michel Petrucciani. \nJanus has played on the Danish scene in various settings including the trio Spine and the award winning collaboration with poet Søren Ulrik Thomsen. \nAugust is an upcoming bassist from Fredericia who plays in various projects including RØD SOL and Horisonten trio. \nThere will be a jam session following the concert. \nClick HERE for more information.
URL:https://benjaminjuuldimond.com/event/kobbersmed-hofman-boegh-juul-dimond-22-03-24/
LOCATION:Tøjhuset\,Fredericia\, DK\, Gothersgade 34\, Fredericia\, 7000\, Denmark
ATTACH;FMTTYPE=image/webp:https://benjaminjuuldimond.com/wp-content/uploads/Tojhuset-22-03-24.webp
END:VEVENT
END:VCALENDAR